BEGIN:VCALENDAR
VERSION:2.0
PRODID:-//hacksw/handcal//NONSGML v1.0//EN
BEGIN:VEVENT
SUMMARY:🏀Stage d'avril nes en 2011 et jusqu'en 2016🏀
UID:7a6637b2-244e-43a0-b67c-232d991026f9
DTSTART:20260420T070000Z
DTEND:20260424T150000Z
LOCATION:Localisation Centre Sportif Roger Vergne  31 Rue du Commandant Rene Mouchotte 94160 Saint Mande
CATEGORIES:Sportif
STATUS:
DESCRIPTION:<p style="text-align:center;"><u><strong><span
 style="font-size:22px;">Inscriptions stage
 d'avril</span></strong></u></p>
 
 <p
 style="text-align:center;"><span> </span><span
 style="font-size:18px;"><strong>Ce stage est reserve aux
 jeunes <span style="color:#ff0000;">nes en 2011 et jusqu'en
 2016</span> ( adherent ou non au club) </strong></span></p>
 
 <p
 style="text-align:center;"><span style="font-size:18px;"><strong>Du
 lundi 20 avril au vendredi 24 avril de 9h a
 17h</strong></span></p>
 
 <p style="text-align:center;"><span
 style="font-size:18px;"><strong>Il va leur permettre d'approfondir
 les fondamentaux du basket</strong></span></p>
 
 <p
 style="text-align:center;"><span style="font-size:18px;"><strong>dans
 une ambiance sportive et bienveillante.</strong></span></p>
 
 <p
 style="text-align:center;"><span
 style="font-size:18px;"><strong>Chaque enfant devra apporter son
 repas du midi, qui sera pris sur place, le gouter est fourni par le
 club</strong></span></p>
 
 <p style="text-align:center;"><span
 style="font-size:18px;"><strong><u>Tarifs 
 :</u> </strong></span></p>
 
 <p style="text-align:center;"><span
 style="color:#0000ff;"><span style="font-size:18px;"><strong>Pour 5
 jours de stage adherents 200 € 
   </strong></span></span></p>
 
 <p style="text-align:center;"><span
 style="color:#00ccff;"><span style="font-size:18px;"><strong>Pour 5
 jours de stage non adherents 225
 €  </strong></span></span></p>
 
 <p
 style="text-align:center;"><span style="color:#0000ff;"><span
 style="font-size:18px;"><strong>Pour 4 jours de stage adherents 160
 €    </strong></span></span></p>
 
 <p
 style="text-align:center;"><span style="color:#00ccff;"><span
 style="font-size:18px;"><strong>Pour 4 jours de stage non adherents
 180 €  </strong></span></span></p>
 
 <p
 style="text-align:center;"><span style="color:#0000ff;"><span
 style="font-size:18px;"><strong>Pour 3 jours de stage adherents
 120€  </strong></span></span></p>
 
 <p
 style="text-align:center;"><span style="color:#00ccff;"><span
 style="font-size:18px;"><strong>Pour 3 jours de stage non adherents
 135 €  </strong></span></span></p>
 
 <p
 style="text-align:center;"><span style="font-size:18px;"><strong>Pas
 d'inscription possible pour moins de 3
 jours </strong></span></p>
 
 <p style="text-align:center;"><span
 style="font-size:18px;"><span style="color:#00ff00;"><strong>paiement
 en carte bancaire avec possibilite de payer en 2
 fois </strong></span></span></p>
 
 <p
 style="text-align:center;"><span style="color:#ff0000;"><span
 style="font-size:18px;"><strong>Toute inscription est definitive et
 ne peut donner lieu a remboursement peu importe le
 motif.</strong></span></span></p>
 
 <p
 style="text-align:center;"> </p>
URL;VALUE=URI:https://www.lalorrainedesaintmande.com/evenements/2026/04/20/stage-davril-nes-en-2011-et-jusquen-2016-2277609
END:VEVENT
END:VCALENDAR
